BEGIN:VCALENDAR
PRODID: -//Microsoft Corporation//Outlook 12.0 MIMEDIR//EN
VERSION:2.0
METHOD:PUBLISH
BEGIN:VEVENT
DTSTART:20260617T080000Z
DTEND:20260617T090000Z
LOCATION:
TRANSP:TRANSPARENT
SEQUENCE:0
UID:591
DTSTAMP:20260617T080000Z
DESCRIPTION:
SUMMARY:Tikehau Capital -  Tikehau Capital to present at the Kepler Cheuvreux Investment Companies Day
PRIORITY:5
X-MICROSOFT-CDO-IMPORTANCE:1
CLASS:PUBLIC
X-MICROSOFT-CDO-BUSYSTATUS:
END:VEVENT
END:VCALENDAR
