BEGIN:VCALENDAR
PRODID: -//Microsoft Corporation//Outlook 12.0 MIMEDIR//EN
VERSION:2.0
METHOD:PUBLISH
BEGIN:VEVENT
DTSTART:20260602T080000Z
DTEND:20260603T090000Z
LOCATION:
TRANSP:TRANSPARENT
SEQUENCE:0
UID:385
DTSTAMP:20260602T080000Z
DESCRIPTION:
SUMMARY:Tikehau Capital -  Tikehau Capital to present at the Goldman Sachs 30<sup>th</sup> Annual European Financials Conference
PRIORITY:5
X-MICROSOFT-CDO-IMPORTANCE:1
CLASS:PUBLIC
X-MICROSOFT-CDO-BUSYSTATUS:
END:VEVENT
END:VCALENDAR
