BEGIN:VCALENDAR
PRODID: -//Microsoft Corporation//Outlook 12.0 MIMEDIR//EN
VERSION:2.0
METHOD:PUBLISH
BEGIN:VEVENT
DTSTART:20260522T080000Z
DTEND:20260522T090000Z
LOCATION:
TRANSP:TRANSPARENT
SEQUENCE:0
UID:559
DTSTAMP:20260522T080000Z
DESCRIPTION:
SUMMARY:Tikehau Capital -  Tikehau Capital to present at the Bernstein's 21<sup>st</sup> Small & Mid-Cap Conference
PRIORITY:5
X-MICROSOFT-CDO-IMPORTANCE:1
CLASS:PUBLIC
X-MICROSOFT-CDO-BUSYSTATUS:
END:VEVENT
END:VCALENDAR
